BEGIN:VCALENDAR
VERSION:2.0
PRODID:-//Squarespace Inc/Squarespace 6//v6//EN
BEGIN:VEVENT
UID:5f86c5ed5253a74bf882f840@squarespace.com
DTSTAMP:20200624T162737Z
DTSTART:20240712T233000Z
DTEND:20240713T003000Z
SUMMARY:Event Three
END:VEVENT
END:VCALENDAR
