BEGIN:VCALENDAR
VERSION:2.0
PRODID:-//Squarespace Inc/Squarespace 6//v6//EN
BEGIN:VEVENT
UID:5f86c5ed5253a74bf882f83c@squarespace.com
DTSTAMP:20201014T095433Z
DTSTART:20240710T233000Z
DTEND:20240711T003000Z
SUMMARY:Little Chuck One Man Skiffle Band
END:VEVENT
END:VCALENDAR
